BEGIN:VCALENDAR
VERSION:2.0
PRODID:-//Muslim Forum of Britain - ECPv6.15.20//NONSGML v1.0//EN
CALSCALE:GREGORIAN
METHOD:PUBLISH
X-WR-CALNAME:Muslim Forum of Britain
X-ORIGINAL-URL:https://muslimforumofbritain.co.uk
X-WR-CALDESC:Events for Muslim Forum of Britain
REFRESH-INTERVAL;VALUE=DURATION:PT1H
X-Robots-Tag:noindex
X-PUBLISHED-TTL:PT1H
BEGIN:VTIMEZONE
TZID:UTC
BEGIN:STANDARD
TZOFFSETFROM:+0000
TZOFFSETTO:+0000
TZNAME:UTC
DTSTART:20240101T000000
END:STANDARD
END:VTIMEZONE
BEGIN:VEVENT
DTSTART;VALUE=DATE:20250801
DTEND;VALUE=DATE:20250805
DTSTAMP:20260424T142323
CREATED:20250519T133114Z
LAST-MODIFIED:20250802T063624Z
UID:3580-1754006400-1754351999@muslimforumofbritain.co.uk
SUMMARY:12th Annual Summer Conference
DESCRIPTION:With so many fun activities for kids and adults in a prime serene location\, premium Nigerian food\, and carefully curated sessions for all attendees\, MFB Summer Conference is the highlight of the year for many families. Little wonder why spaces get grabbed really quickly. \n \nCLICK HERE TO SEE LATEST UPDATE FROM THE EVENT
URL:https://muslimforumofbritain.co.uk/event/12th-annual-summer-conference/
LOCATION:Kingswood – Dearne Valley Denaby Main\, Doncaster DN12 4EA\, Kingswood - Dearne Valley Denaby Main\, Doncaster\, Kingswood\, Dearne VAlley\, DN12 4EA\, United Kingdom
CATEGORIES:conferences
END:VEVENT
BEGIN:VEVENT
DTSTART;TZID=UTC:20260807T080000
DTEND;TZID=UTC:20260810T120000
DTSTAMP:20260424T142323
CREATED:20260104T181005Z
LAST-MODIFIED:20260104T181005Z
UID:4133-1786089600-1786363200@muslimforumofbritain.co.uk
SUMMARY:13th Annual Summer Conference
DESCRIPTION:
URL:https://muslimforumofbritain.co.uk/event/13th-annual-summer-conference/
LOCATION:Kingswood – Dearne Valley Denaby Main\, Doncaster DN12 4EA\, Kingswood - Dearne Valley Denaby Main\, Doncaster\, Kingswood\, Dearne VAlley\, DN12 4EA\, United Kingdom
CATEGORIES:conferences
ATTACH;FMTTYPE=image/jpeg:https://muslimforumofbritain.co.uk/wp-content/uploads/2026/01/mfb-conference.jpeg
END:VEVENT
END:VCALENDAR