BEGIN:VCALENDAR
VERSION:2.0
PRODID:-//Muslim Forum of Britain - ECPv6.15.20//NONSGML v1.0//EN
CALSCALE:GREGORIAN
METHOD:PUBLISH
X-WR-CALNAME:Muslim Forum of Britain
X-ORIGINAL-URL:https://muslimforumofbritain.co.uk
X-WR-CALDESC:Events for Muslim Forum of Britain
REFRESH-INTERVAL;VALUE=DURATION:PT1H
X-Robots-Tag:noindex
X-PUBLISHED-TTL:PT1H
BEGIN:VTIMEZONE
TZID:UTC
BEGIN:STANDARD
TZOFFSETFROM:+0000
TZOFFSETTO:+0000
TZNAME:UTC
DTSTART:20240101T000000
END:STANDARD
END:VTIMEZONE
BEGIN:VEVENT
DTSTART;TZID=UTC:20250531T190000
DTEND;TZID=UTC:20250531T200000
DTSTAMP:20260424T095512
CREATED:20250527T093219Z
LAST-MODIFIED:20250527T094403Z
UID:3838-1748718000-1748721600@muslimforumofbritain.co.uk
SUMMARY:The Importance of Zakat and its Rullings
DESCRIPTION:As-salaamu alaykum warahamatullahi wabarakatuhu The Nigerian Muslim Community\, Greenwich UK\, cordially invites you to this month’s lecture via zoom on the following link: https://us02web.zoom.us/j/83953020505?pwd=vDaB1ePdE9ebaZdB0DJXVX0j8L1u1A.1 \nMeeting ID: 839 5302 0505 \nPasscode: 920232
URL:https://muslimforumofbritain.co.uk/event/the-importance-of-zakat-and-its-rullings/
LOCATION:Dearne VAlley
CATEGORIES:conferences
ATTACH;FMTTYPE=image/jpeg:https://muslimforumofbritain.co.uk/wp-content/uploads/2025/05/WhatsApp-Image-2025-05-18-at-5.10.35-PM.jpeg
END:VEVENT
BEGIN:VEVENT
DTSTART;TZID=UTC:20250525T110000
DTEND;TZID=UTC:20250525T130000
DTSTAMP:20260424T095512
CREATED:20250519T185613Z
LAST-MODIFIED:20250525T135821Z
UID:3759-1748170800-1748178000@muslimforumofbritain.co.uk
SUMMARY:Workshop-Business opportunities and registration in the United Kingdom
DESCRIPTION:British African Business Circle is inviting the general public to its Quarterly business and Entrepreneurship network. \nTopic: Business opportunities and registration in the United Kingdom \nDate: May 25\, 2025 \nTime:11:00 am London \nJoin Zoom Meeting\nhttps://us06web.zoom.us/j/86568446092?pwd=KDeBnO2DQNQHqhKItnaO8Xm6Ct1V5x.1 \nMeeting ID: 865 6844 6092\nPasscode: 636036
URL:https://muslimforumofbritain.co.uk/event/workshop-business-opportunities-and-registration-in-the-united-kingdom/
LOCATION:Zoom\, Zoom\, Greenwich\, United Kingdom
CATEGORIES:conferences,Workshop
ATTACH;FMTTYPE=image/jpeg:https://muslimforumofbritain.co.uk/wp-content/uploads/2025/05/WhatsApp-Image-2025-05-18-at-10.05.48-AM.jpeg
END:VEVENT
END:VCALENDAR